Workbook

Sheet Text
A6: Sulfur in Janaury 2019
A7: This workbook includes an embedded Word document and 7 tables (See tabs below).
A14: This icon is linked to an embedded text document.

Sheet T1
A1: TABLE 1
A2: SALIENT SULFUR STATISTICS1
A4: (Thousand metric tons)
C6: Production | I6: Shipments, | K6: Stocks,
A7: Period | C7: Petroleum2 | E7: Natural gas | G7: Total | I7: all sources | K7: end of period3
A8: 2018:
A9: January | C9: 675 | E9: 56 | G9: 731 | I9: 749 | K9: 111
A10: February | C10: 594 | E10: 55 | G10: 649 | I10: 665 | K10: 99
A11: March | C11: 706 | E11: 55 | G11: 761 | I11: 739 | K11: 122
A12: April | C12: 686 | E12: 55 | G12: 741 | I12: 748 | K12: 115
A13: May | C13: 704 | E13: 55 | G13: 759 | I13: 754 | K13: 121
A14: June | C14: 719 | E14: 53 | G14: 772 | I14: 765 | K14: 128
A15: July | C15: 728 | E15: 44 | G15: 772 | I15: 789 | K15: 112
A16: August | C16: 751 | E16: 54 | G16: 805 | I16: 809 | K16: 107
A17: September | C17: 690 | E17: 38 | G17: 728 | I17: 722 | K17: 113
A18: October | C18: 663 | E18: 53 | G18: 717 | I18: 713 | K18: 117
A19: November | C19: 696 | E19: 54 | G19: 750 | I19: 762 | K19: 105
A20: December | C20: 766 | E20: 54 | G20: 820 | I20: 803 | K20: 122
... A22: 2019, Januaryp | C22: 703 | E22: 47 | G22: 750 | I22: 770 | K22: 101
A23: pPreliminary.
A24: 1Data are rounded to no more than three significant digits; may not add to totals shown.
A25: 2Includes a small quantity from coking operations.
A26: 3Subject to inventory adjustments.

Sheet T2
A1: TABLE 2
A2: U.S. IMPORTS OF SULFUR1
A4: (Thousand metric tons and thousand dollars)
C6: Canada | G6: Total, all countries2
A7: Period | C7: Quantity | E7: Value3 | G7: Quantity | I7: Value3
A8: 2018:
A9: January | C9: 115 | E9: 6510 | G9: 152 | I9: 15000
A10: February | C10: 119 | E10: 6380 | G10: 169 | I10: 14800
A11: March | C11: 124 | E11: 7830 | G11: 188 | I11: 17400
A12: April | C12: 110 | E12: 6090 | G12: 151 | I12: 12200
A13: May | C13: 129 | E13: 5000 | G13: 177 | I13: 12500
A14: June | C14: 144 | E14: 7400 | G14: 278 | I14: 25300
A15: July | C15: 98 | E15: 6250 | G15: 198 | I15: 20700
A16: August | C16: 151 | E16: 9040 | G16: 214 | I16: 18800
A17: September | C17: 120 | E17: 8200 | G17: 155 | I17: 13700
A18: October | C18: 139 | E18: 9310 | G18: 190 | I18: 17700
A19: November | C19: 135 | E19: 9250 | G19: 185 | I19: 18800
A20: December | C20: 125 | E20: 9380 | G20: 173 | I20: 18400
... A22: 2019, Januarye | C22: 130 | E22: 10100 | G22: 179 | I22: 19800
A23: -- Zero. eEstimated.
A24: 1Data are rounded to no more than three significant digits; may not add to totals shown.
A25: 2May include other countries not listed.
A26: 3Declared customs valuation.
A27: 4Less than ½ unit.
A29: Sources: U.S. Census Bureau as adjusted by U.S. Geological Survey and Acuity Commodities.

Sheet T3
A1: TABLE 3
A2: U.S. IMPORTS OF SULFURIC ACID1
A4: (Thousand metric tons and thousand dollars)
C6: Canada | I6: Mexico | O6: Total, all countries2
E7: Sulfur | K7: Sulfur | Q7: Sulfur
A8: Period | C8: Quantity | E8: content | G8: Value3 | I8: Quantity | K8: content | M8: Value3 | O8: Quantity | Q8: content | S8: Value3
A9: 2018:
A10: January | C10: 165 | E10: 53.94675 | G10: 6630 | I10: 54 | K10: 17.6553 | M10: 1400 | O10: 263 | Q10: 85.98785 | S10: 9980
A11: February | C11: 132 | E11: 43.1574 | G11: 5430 | I11: 37 | K11: 12.09715 | M11: 1440 | O11: 198 | Q11: 64.7361 | S11: 8950
A12: March | C12: 158 | E12: 51.6581 | G12: 6510 | I12: 39 | K12: 12.75105 | M12: 1500 | O12: 255 | Q12: 83.37225 | S12: 12700
A13: April | C13: 146 | E13: 47.7347 | G13: 7000 | I13: 12 | K13: 3.9234 | M13: 465 | O13: 235 | Q13: 76.83325 | S13: 16100
A14: May | C14: 176 | E14: 57.5432 | G14: 8870 | I14: 32 | K14: 10.4624 | M14: 1200 | O14: 298 | Q14: 97.4311 | S14: 17100
A15: June | C15: 171 | E15: 55.90845 | G15: 8250 | I15: 48 | K15: 15.6936 | M15: 1830 | O15: 279 | Q15: 91.21905 | S15: 16000
A16: July | C16: 166 | E16: 54.2737 | G16: 8030 | I16: 49 | K16: 16.02055 | M16: 2990 | O16: 275 | Q16: 89.91125 | S16: 16800
A17: August | C17: 149 | E17: 48.71555 | G17: 6720 | I17: 39 | K17: 12.75105 | M17: 1420 | O17: 236 | Q17: 77.1602 | S17: 14200
A18: September | C18: 153 | E18: 50.02335 | G18: 6420 | I18: 33 | K18: 10.78935 | M18: 1260 | O18: 252 | Q18: 82.3914 | S18: 13300
A19: October | C19: 164 | E19: 53.6198 | G19: 7990 | I19: 21 | K19: 6.86595 | M19: 780 | O19: 266 | Q19: 86.9687 | S19: 16300
A20: November | C20: 136 | E20: 44.4652 | G20: 6810 | I20: 46 | K20: 15.0397 | M20: 1870 | O20: 220 | Q20: 71.929 | S20: 14000
A21: December | C21: 187 | E21: 61.13965 | G21: 9480 | I21: 57 | K21: 18.63615 | M21: 2200 | O21: 272 | Q21: 88.9304 | S21: 15000
A22: January–December | C22: 1900 | E22: 622.18585 | G22: 88100 | I22: 470 | J22: r | K22: 153.68565 | L22: r | M22: 18400 | O22: 3050 | Q22: 996.87055 | S22: 170000
A23: 2019, January | C23: 139 | E23: 45.44605 | G23: 7280 | I23: 36 | K23: 11.7702 | M23: 1470 | O23: 237 | Q23: 77.48715 | S23: 14200
A24: rRevised.
A25: 1Data are rounded to no more than three significant digits; may not add to totals shown.
A26: 2May include other countries not listed.
A27: 3Declared customs valuation.
A29: Source: U.S. Census Bureau.

Sheet T4
A1: TABLE 4
A2: U.S. EXPORTS OF SULFUR AND SULFURIC ACID1
A4: (Thousand metric tons and thousand dollars)
G6: Sulfuric acid
C7: Sulfur | I7: Sulfur
A8: Period | C8: Quantity | E8: Value2 | G8: Quantity | I8: content | K8: Value2
A9: 2018:
A10: January | C10: 191 | E10: 30500 | G10: 24 | I10: 7.8468 | K10: 2690
A11: February | C11: 109 | E11: 13100 | G11: 26 | I11: 8.5007 | K11: 2830
A12: March | C12: 217 | E12: 25900 | G12: 38 | I12: 12.4241 | K12: 3010
A13: April | C13: 175 | E13: 19600 | G13: 46 | I13: 15.0397 | K13: 2810
A14: May | C14: 225 | E14: 29200 | G14: 15 | I14: 4.90425 | K14: 2630
A15: June | C15: 200 | E15: 25200 | G15: 19 | I15: 6.21205 | K15: 2960
A16: July | C16: 204 | E16: 26600 | G16: 33 | I16: 10.78935 | K16: 4730
A17: August | C17: 173 | E17: 23200 | G17: 25 | I17: 8.17375 | K17: 3820
A18: September | C18: 217 | E18: 30100 | G18: 32 | I18: 10.4624 | K18: 4110
A19: October | C19: 172 | E19: 24300 | G19: 15 | I19: 4.90425 | K19: 2210
A20: November | C20: 193 | E20: 27000 | G20: 16 | I20: 5.2312 | K20: 2750
A21: December | C21: 346 | E21: 30200 | G21: 28 | I21: 9.1546 | K21: 4050
A22: January–December | C22: 2420 | E22: 305000 | G22: 315 | I22: 102.64315 | J22: r | K22: 38600
A23: 2019, January | C23: 349 | E23: 29800 | G23: 16 | I23: 5.2312 | K23: 2980
A24: rRevised.
A25: 1Data are rounded to no more than three significant digits; may not add to totals shown.
A26: 2Declared f.a.s. (free alongside ship) valuation.
A28: Source: U.S. Census Bureau.

Sheet T5
A1: TABLE 5
A2: U.S. CONSUMPTION OF SULFUR1
A4: (Thousand metric tons)
C6: Domestic
A7: Period | C7: sources2 | E7: Imports | G7: Consumption
A8: 2018:
A9: January | C9: 558 | E9: 152 | G9: 710
A10: February | C10: 556 | E10: 169 | G10: 725
A11: March | C11: 522 | E11: 188 | G11: 710
A12: April | C12: 573 | E12: 151 | G12: 724
A13: May | C13: 529 | E13: 177 | G13: 706
A14: June | C14: 565 | E14: 278 | G14: 843
A15: July | C15: 585 | E15: 198 | G15: 783
A16: August | C16: 636 | E16: 214 | G16: 850
A17: September | C17: 505 | E17: 155 | G17: 660
A18: October | C18: 541 | E18: 190 | G18: 731
A19: November | C19: 569 | E19: 185 | G19: 754
A20: Decemberp | C20: 457 | E20: 173 | G20: 630
... A22: 2019, Januaryp | C22: 421 | E22: 179 | G22: 600
A23: pPreliminary.
A24: 1Data are rounded to no more than three significant digits; may not add to totals shown.
A25: 2Calculated as shipments minus exports.

Sheet T6
A1: TABLE 6
A2: RECOVERED SULFUR PRODUCED AND SHIPPED IN THE UNITED STATES,
A3: BY PAD (PETROLEUM ADMINISTRATION FOR DEFENSE) DISTRICT1
A5: (Thousand metric tons)
C7: January 20182 | G7: December 2018 | K7: January 2019p
A8: District and source | C8: Production | E8: Shipments | G8: Production | I8: Shipments | K8: Production | M8: Shipments
A9: PAD 1:
A10: Petroleum and coke | C10: 20 | E10: 20 | G10: 18 | I10: 18 | K10: 18 | M10: 19
A11: Natural gas | C11: 1 | E11: 1 | G11: 1 | I11: 1 | K11: 1 | M11: 1
A12: Total | C12: 21 | E12: 21 | G12: 19 | I12: 19 | K12: 19 | M12: 20
A13: PAD 2:
A14: Petroleum and coke | C14: 110 | E14: 113 | G14: 131 | I14: 131 | K14: 119 | M14: 118
A15: Natural gas | C15: 1 | E15: 1 | G15: -- | I15: -- | K15: 1 | M15: --
A16: Total | C16: 110 | E16: 114 | G16: 131 | I16: 132 | K16: 119 | M16: 118
A17: PAD 3:
A18: Petroleum and coke | C18: 417 | E18: 425 | G18: 477 | I18: 470 | K18: 442 | M18: 450
A19: Natural gas | C19: 10 | E19: 11 | G19: 10 | I19: 9 | K19: 10 | M19: 11
A20: Total | C20: 427 | E20: 436 | G20: 488 | I20: 479 | K20: 453 | M20: 462
A21: PAD 4 and 5:
A22: Petroleum and coke | C22: 128 | E22: 134 | G22: 140 | I22: 136 | K22: 124 | M22: 130
A23: Natural gas | C23: 44 | E23: 44 | G23: 43 | I23: 38 | K23: 35 | M23: 40
A24: Total | C24: 171 | E24: 178 | G24: 182 | I24: 173 | K24: 159 | M24: 171
A25: Grand total | C25: 731 | E25: 749 | G25: 820 | I25: 803 | K25: 750 | M25: 770
A26: pPreliminary. -- Zero.
A27: 1Data are rounded to no more than three significant digits; may not add to totals shown.
A28: 2May include revisions to previously published data.

Sheet T7
A1: TABLE 7
A2: COMPARATIVE SULFUR AND SULFURIC ACID STATISTICS1
A4: (Million metric tons per year [annualized basis] and dollars per metric ton for period shown)
C6: 2018 | G6: 2019
C7: December | E7: Total | G7: January
A8: Production | C8: ='T1'!G20/31*0.365 -> 9.6548387 | E8: ='T1'!G21/365*0.365 -> 9.01 | G8: ='T1'!G22/31*0.365 -> 8.8306452
A9: Shipments | C9: ='T1'!I20/31*0.365 -> 9.4546774 | E9: ='T1'!I21/365*0.365 -> 9.02 | G9: ='T1'!I22/31*0.365 -> 9.066129
A10: Exports of sulfur | C10: ='T4'!C21/31*0.365 -> 4.073871 | E10: ='T4'!C22/365*0.365 -> 2.42 | G10: ='T4'!C23/31*0.365 -> 4.1091935
A11: Imports of sulfur:
A12: Canada | C12: ='T2'!C20/31*0.365 -> 1.4717742 | E12: ='T2'!C21/365*0.365 -> 1.51 | G12: ='T2'!C22/31*0.365 -> 1.5306452
A13: Mexico | C13: -- | E13: (2) | G13: --
A14: Total3 | C14: ='T2'!G20/31*0.365 -> 2.0369355 | E14: ='T2'!G21/365*0.365 -> 2.23 | G14: ='T2'!G22/31*0.365 -> 2.1075806
A15: Exports of H2SO4 | C15: ='T4'!G21/31*0.365 -> 0.32967742 | E15: ='T4'!G22/365*0.365 -> 0.315 | G15: ='T4'!G23/31*0.365 -> 0.1883871
A16: Imports of H2SO4:
A17: Canada | C17: ='T3'!C21/31*0.365 -> 2.2017742 | E17: ='T3'!C22/365*0.365 -> 1.9 | G17: ='T3'!C23/31*0.365 -> 1.6366129
A18: Total3 | C18: ='T3'!O21/31*0.365 -> 3.2025806 | E18: ='T3'!O22/365*0.365 -> 3.05 | G18: ='T3'!O23/31*0.365 -> 2.7904839
A19: Consumption:
A20: Domestic sources | C20: ='T5'!C20/31*0.365 -> 5.3808065 | E20: ='T5'!C21/365*0.365 -> 6.6 | G20: ='T5'!C22/31*0.365 -> 4.9569355
A21: Imports | C21: ='T5'!E20/31*0.365 -> 2.0369355 | E21: ='T5'!E21/365*0.365 -> 2.23 | G21: ='T5'!E22/31*0.365 -> 2.1075806
A22: Total | C22: ='T5'!G20/31*0.365 -> 7.4177419 | E22: ='T5'!G21/365*0.365 -> 8.83 | G22: ='T5'!G22/31*0.365 -> 7.0645161
A23: Sulfur export values4 | C23: ='T4'!E21/'T4'!C21 -> 87.283237 | E23: ='T4'!E22/'T4'!C22 -> 126.03306 | G23: ='T4'!E23/'T4'!C23 -> 85.386819
A24: Sulfur import values:4
A25: Canada | C25: ='T2'!E20/'T2'!C20 -> 75.04 | E25: ='T2'!E21/'T2'!C21 -> 60 | G25: ='T2'!E22/'T2'!C22 -> 77.692308
A26: Average3 | C26: ='T2'!I20/'T2'!G20 -> 106.35838 | E26: ='T2'!I21/'T2'!G21 -> 91.928251 | G26: ='T2'!I22/'T2'!G22 -> 110.61453
A27: H2SO4 export values4 | C27: ='T4'!K21/'T4'!G21 -> 144.64286 | E27: ='T4'!K22/'T4'!G22 -> 122.53968 | G27: ='T4'!K23/'T4'!G23 -> 186.25
A28: H2SO4 import values:4
A29: Canada | C29: ='T3'!G21/'T3'!C21 -> 50.695187 | E29: ='T3'!G22/'T3'!C22 -> 46.368421 | G29: ='T3'!G23/'T3'!C23 -> 52.374101
A30: Mexico | C30: ='T3'!M21/'T3'!I21 -> 38.596491 | E30: ='T3'!M22/'T3'!I22 -> 39.148936 | G30: ='T3'!M23/'T3'!I23 -> 40.833333
A31: Average3 | C31: ='T3'!S21/'T3'!O21 -> 55.147059 | E31: ='T3'!S22/'T3'!O22 -> 55.737705 | G31: ='T3'!S23/'T3'!O23 -> 59.915612
A32: pPreliminary. XX Not applicable. -- Zero.
A33: 1Data are rounded to no more than three significant digits; may not add to totals shown.
A34: 2Less than ½ unit.
A35: 3Includes other countries not listed.
A36: 4Average value per ton.
